Workbook

Sheet Cuadro Diario
E2: Dirección General del Sistema Penitenciario
E3: Estadística Diaria
E5: Lunes, 27 de enero de 2020 | Q5: Martes, 31 de diciembre de 2019
E7: Conteo | H7: Porcentaje | J7: Capacidad | K7: Sobrepoblación | L7: Índice de Hacinamiento | Q7: =+E7 -> Conteo | T7: =+H7 -> Porcentaje | V7: =K7 -> Sobrepoblación | W7: =L7 -> Índice de Hacinamiento
B8: cap. | D8: Detalle | E8: Condenados | F8: Procesados | G8: Total | H8: Condenados | I8: Procesados | N8: dif | P8: =+D8 -> Detalle | Q8: =+E8 -> Condenados | R8: =+F8 -> Procesados | S8: =+G8 -> Total | T8: =+H8 -> Condenados | U8: =+I8 -> Procesados
B9: 100 | C9: CENTRO PENAL | D9: Algarrobos | E9: 127 | F9: 72 | G9: =SUM(E9:F9) -> 199 | H9: =IFERROR((E9/G9),0) -> 0.63819095 | I9: =IFERROR((F9/G9),0) -> 0.36180905 | J9: =B9 -> 100 | K9: =IF((G9-B9)>0,G9-B9,0) -> 99 | L9: =G9/B9 -> 1.99 | N9: =G9-S9 -> 2 | P9: =+D9 -> Algarrobos | Q9: 126 | R9: 71 | S9: =SUM(Q9:R9) -> 197 | T9: =IFERROR((Q9/S9),0) -> 0.63959391 | U9: =IFERROR((R9/S9),0) -> 0.36040609 | V9: =IF((S9-B9)>0,S9-B9,0) -> 97 | W9: =V9/B9 -> 0.97
B10: 950 | D10: Chiriquí | E10: 1266 | F10: 336 | G10: =SUM(E10:F10) -> 1602 | H10: =IFERROR((E10/G10),0) -> 0.79026217 | I10: =IFERROR((F10/G10),0) -> 0.20973783 | J10: =B10 -> 950 | K10: =IF((G10-B10)>0,G10-B10,0) -> 652 | L10: =G10/B10 -> 1.6863158 | N10: =G10-S10 -> 13 | P10: =+D10 -> Chiriquí | Q10: 1255 | R10: 334 | S10: =SUM(Q10:R10) -> 1589 | T10: =IFERROR((Q10/S10),0) -> 0.78980491 | U10: =IFERROR((R10/S10),0) -> 0.21019509 | V10: =IF((S10-B10)>0,S10-B10,0) -> 639 | W10: =V10/B10 -> 0.67263158
B11: 304 | D11: Bocas | E11: 373 | F11: 99 | G11: =SUM(E11:F11) -> 472 | H11: =IFERROR((E11/G11),0) -> 0.79025424 | I11: =IFERROR((F11/G11),0) -> 0.20974576 | J11: =B11 -> 304 | K11: =IF((G11-B11)>0,G11-B11,0) -> 168 | L11: =G11/B11 -> 1.5526316 | N11: =G11-S11 -> 7 | P11: =+D11 -> Bocas | Q11: 374 | R11: 91 | S11: =SUM(Q11:R11) -> 465 | T11: =IFERROR((Q11/S11),0) -> 0.80430108 | U11: =IFERROR((R11/S11),0) -> 0.19569892 | V11: =IF((S11-B11)>0,S11-B11,0) -> 161 | W11: =V11/B11 -> 0.52960526
B12: 472 | D12: Santiago | E12: 422 | F12: 99 | G12: =SUM(E12:F12) -> 521 | H12: =IFERROR((E12/G12),0) -> 0.80998081 | I12: =IFERROR((F12/G12),0) -> 0.19001919 | J12: =B12 -> 472 | K12: =IF((G12-B12)>0,G12-B12,0) -> 49 | L12: =G12/B12 -> 1.1038136 | N12: =G12-S12 -> 8 | P12: =+D12 -> Santiago | Q12: 416 | R12: 97 | S12: =SUM(Q12:R12) -> 513 | T12: =IFERROR((Q12/S12),0) -> 0.81091618 | U12: =IFERROR((R12/S12),0) -> 0.18908382 | V12: =IF((S12-B12)>0,S12-B12,0) -> 41 | W12: =V12/B12 -> 0.086864407
B13: 75 | D13: Las Tablas | E13: 203 | F13: 41 | G13: =SUM(E13:F13) -> 244 | H13: =IFERROR((E13/G13),0) -> 0.83196721 | I13: =IFERROR((F13/G13),0) -> 0.16803279 | J13: =B13 -> 75 | K13: =IF((G13-B13)>0,G13-B13,0) -> 169 | L13: =G13/B13 -> 3.2533333 | N13: =G13-S13 -> -1 | P13: =+D13 -> Las Tablas | Q13: 203 | R13: 42 | S13: =SUM(Q13:R13) -> 245 | T13: =IFERROR((Q13/S13),0) -> 0.82857143 | U13: =IFERROR((R13/S13),0) -> 0.17142857 | V13: =IF((S13-B13)>0,S13-B13,0) -> 170 | W13: =V13/B13 -> 2.2666667
B14: 12 | D14: Punta Coco | E14: 0 | F14: 9 | G14: =SUM(E14:F14) -> 9 | H14: =IFERROR((E14/G14),0) -> 0 | I14: =IFERROR((F14/G14),0) -> 1 | J14: =B14 -> 12 | K14: =IF((G14-B14)>0,G14-B14,0) -> 0 | L14: =G14/B14 -> 0.75 | N14: =G14-S14 -> 0 | P14: =+D14 -> Punta Coco | Q14: 0 | R14: 9 | S14: =SUM(Q14:R14) -> 9 | T14: =IFERROR((Q14/S14),0) -> 0 | U14: =IFERROR((R14/S14),0) -> 1 | V14: =IF((S14-B14)>0,S14-B14,0) -> 0 | W14: =V14/B14 -> 0
B15: 80 | D15: Chitré | E15: 227 | F15: 41 | G15: =SUM(E15:F15) -> 268 | H15: =IFERROR((E15/G15),0) -> 0.84701493 | I15: =IFERROR((F15/G15),0) -> 0.15298507 | J15: =B15 -> 80 | K15: =IF((G15-B15)>0,G15-B15,0) -> 188 | L15: =G15/B15 -> 3.35 | N15: =G15-S15 -> 5 | P15: =+D15 -> Chitré | Q15: 223 | R15: 40 | S15: =SUM(Q15:R15) -> 263 | T15: =IFERROR((Q15/S15),0) -> 0.84790875 | U15: =IFERROR((R15/S15),0) -> 0.15209125 | V15: =IF((S15-B15)>0,S15-B15,0) -> 183 | W15: =V15/B15 -> 2.2875
B16: 40 | D16: Aguadulce | E16: 115 | F16: 40 | G16: =SUM(E16:F16) -> 155 | H16: =IFERROR((E16/G16),0) -> 0.74193548 | I16: =IFERROR((F16/G16),0) -> 0.25806452 | J16: =B16 -> 40 | K16: =IF((G16-B16)>0,G16-B16,0) -> 115 | L16: =G16/B16 -> 3.875 | N16: =G16-S16 -> 2 | P16: =+D16 -> Aguadulce | Q16: 114 | R16: 39 | S16: =SUM(Q16:R16) -> 153 | T16: =IFERROR((Q16/S16),0) -> 0.74509804 | U16: =IFERROR((R16/S16),0) -> 0.25490196 | V16: =IF((S16-B16)>0,S16-B16,0) -> 113 | W16: =V16/B16 -> 2.825
B17: 70 | D17: Llano Marín | E17: =SUM(E18:E19) -> 64 | F17: =SUM(F18:F19) -> 11 | G17: =SUM(E17:F17) -> 75 | H17: =IFERROR((E17/G17),0) -> 0.85333333 | I17: =IFERROR((F17/G17),0) -> 0.14666667 | J17: =B17 -> 70 | K17: =IF((G17-B17)>0,G17-B17,0) -> 5 | L17: =G17/B17 -> 1.0714286 | N17: =G17-S17 -> -4 | P17: =+D17 -> Llano Marín | Q17: 64 | R17: 15 | S17: =SUM(Q17:R17) -> 79 | T17: =IFERROR((Q17/S17),0) -> 0.81012658 | U17: =IFERROR((R17/S17),0) -> 0.18987342 | V17: =IF((S17-B17)>0,S17-B17,0) -> 9 | W17: =V17/B17 -> 0.12857143
D18: Ll. Marín H | E18: 13 | F18: 0 | P18: =+D18 -> Ll. Marín H | Q18: 14 | R18: 0
D19: Ll. Marín M | E19: 51 | F19: 11 | P19: =+D19 -> Ll. Marín M | Q19: 50 | R19: 15
B20: 100 | D20: Penonomé | E20: 396 | F20: 127 | G20: =SUM(E20:F20) -> 523 | H20: =IFERROR((E20/G20),0) -> 0.75717017 | I20: =IFERROR((F20/G20),0) -> 0.24282983 | J20: =B20 -> 100 | K20: =IF((G20-B20)>0,G20-B20,0) -> 423 | L20: =G20/B20 -> 5.23 | N20: =G20-S20 -> -2 | P20: =+D20 -> Penonomé | Q20: 392 | R20: 133 | S20: =SUM(Q20:R20) -> 525 | T20: =IFERROR((Q20/S20),0) -> 0.74666667 | U20: =IFERROR((R20/S20),0) -> 0.25333333 | V20: =IF((S20-B20)>0,S20-B20,0) -> 425 | W20: =V20/B20 -> 4.25
B21: 309 | D21: El Renacer | E21: 298 | F21: 22 | G21: =SUM(E21:F21) -> 320 | H21: =IFERROR((E21/G21),0) -> 0.93125 | I21: =IFERROR((F21/G21),0) -> 0.06875 | J21: =B21 -> 309 | K21: =IF((G21-B21)>0,G21-B21,0) -> 11 | L21: =G21/B21 -> 1.0355987 | N21: =G21-S21 -> 6 | P21: =+D21 -> El Renacer | Q21: 292 | R21: 22 | S21: =SUM(Q21:R21) -> 314 | T21: =IFERROR((Q21/S21),0) -> 0.92993631 | U21: =IFERROR((R21/S21),0) -> 0.070063694 | V21: =IF((S21-B21)>0,S21-B21,0) -> 5 | W21: =V21/B21 -> 0.01618123
B22: 498 | D22: Tinajita | E22: 294 | F22: 151 | G22: =SUM(E22:F22) -> 445 | H22: =IFERROR((E22/G22),0) -> 0.66067416 | I22: =IFERROR((F22/G22),0) -> 0.33932584 | J22: =B22 -> 498 | K22: =IF((G22-B22)>0,G22-B22,0) -> 0 | L22: =G22/B22 -> 0.8935743 | N22: =G22-S22 -> -8 | P22: =+D22 -> Tinajita | Q22: 299 | R22: 154 | S22: =SUM(Q22:R22) -> 453 | T22: =IFERROR((Q22/S22),0) -> 0.66004415 | U22: =IFERROR((R22/S22),0) -> 0.33995585 | V22: =IF((S22-B22)>0,S22-B22,0) -> 0 | W22: =V22/B22 -> 0
B23: 433 | D23: Cefere | E23: 435 | F23: 214 | G23: =SUM(E23:F23) -> 649 | H23: =IFERROR((E23/G23),0) -> 0.67026194 | I23: =IFERROR((F23/G23),0) -> 0.32973806 | J23: =B23 -> 433 | K23: =IF((G23-B23)>0,G23-B23,0) -> 216 | L23: =G23/B23 -> 1.4988453 | N23: =G23-S23 -> -2 | P23: =+D23 -> Cefere | Q23: 431 | R23: 220 | S23: =SUM(Q23:R23) -> 651 | T23: =IFERROR((Q23/S23),0) -> 0.66205837 | U23: =IFERROR((R23/S23),0) -> 0.33794163 | V23: =IF((S23-B23)>0,S23-B23,0) -> 218 | W23: =V23/B23 -> 0.5034642
B24: 5504 | D24: Nueva Joya | E24: 2625 | F24: 1655 | G24: =SUM(E24:F24) -> 4280 | H24: =IFERROR((E24/G24),0) -> 0.61331776 | I24: =IFERROR((F24/G24),0) -> 0.38668224 | J24: =B24 -> 5504 | K24: =IF((G24-B24)>0,G24-B24,0) -> 0 | L24: =G24/B24 -> 0.77761628 | N24: =G24-S24 -> 32 | P24: =+D24 -> Nueva Joya | Q24: 2614 | R24: 1634 | S24: =SUM(Q24:R24) -> 4248 | T24: =IFERROR((Q24/S24),0) -> 0.6153484 | U24: =IFERROR((R24/S24),0) -> 0.3846516 | V24: =IF((S24-B24)>0,S24-B24,0) -> 0 | W24: =V24/B24 -> 0
B25: 1568 | D25: Joya | E25: 1664 | F25: 1186 | G25: =SUM(E25:F25) -> 2850 | H25: =IFERROR((E25/G25),0) -> 0.58385965 | I25: =IFERROR((F25/G25),0) -> 0.41614035 | J25: =B25 -> 1568 | K25: =IF((G25-B25)>0,G25-B25,0) -> 1282 | L25: =G25/B25 -> 1.817602 | N25: =G25-S25 -> 10 | P25: =+D25 -> Joya | Q25: 1656 | R25: 1184 | S25: =SUM(Q25:R25) -> 2840 | T25: =IFERROR((Q25/S25),0) -> 0.58309859 | U25: =IFERROR((R25/S25),0) -> 0.41690141 | V25: =IF((S25-B25)>0,S25-B25,0) -> 1272 | W25: =V25/B25 -> 0.81122449
B26: 2837 | D26: Joyita | E26: 1582 | F26: 2097 | G26: =SUM(E26:F26) -> 3679 | H26: =IFERROR((E26/G26),0) -> 0.43000815 | I26: =IFERROR((F26/G26),0) -> 0.56999185 | J26: =B26 -> 2837 | K26: =IF((G26-B26)>0,G26-B26,0) -> 842 | L26: =G26/B26 -> 1.2967924 | N26: =G26-S26 -> 22 | P26: =+D26 -> Joyita | Q26: 1572 | R26: 2085 | S26: =SUM(Q26:R26) -> 3657 | T26: =IFERROR((Q26/S26),0) -> 0.42986054 | U26: =IFERROR((R26/S26),0) -> 0.57013946 | V26: =IF((S26-B26)>0,S26-B26,0) -> 820 | W26: =V26/B26 -> 0.28903772
B27: 1546 | D27: Colón | E27: =SUM(E28:E29) -> 526 | F27: =SUM(F28:F29) -> 1067 | G27: =SUM(E27:F27) -> 1593 | H27: =IFERROR((E27/G27),0) -> 0.3301946 | I27: =IFERROR((F27/G27),0) -> 0.6698054 | J27: =B27 -> 1546 | K27: =IF((G27-B27)>0,G27-B27,0) -> 47 | L27: =G27/B27 -> 1.030401 | N27: =G27-S27 -> 23 | P27: =+D27 -> Colón | Q27: 518 | R27: 1052 | S27: =SUM(Q27:R27) -> 1570 | T27: =IFERROR((Q27/S27),0) -> 0.32993631 | U27: =IFERROR((R27/S27),0) -> 0.67006369 | V27: =IF((S27-B27)>0,S27-B27,0) -> 24 | W27: =V27/B27 -> 0.015523933
D28: Colón H | E28: 500 | F28: 1014 | P28: =+D28 -> Colón H | Q28: 492 | R28: 999
D29: Colón M | E29: 26 | F29: 53 | P29: =+D29 -> Colón M | Q29: 26 | R29: 53
B30: 30 | D30: Chorrera | E30: 0 | F30: 20 | G30: =SUM(E30:F30) -> 20 | H30: =IFERROR((E30/G30),0) -> 0 | I30: =IFERROR((F30/G30),0) -> 1 | J30: =B30 -> 30 | K30: =IF((G30-B30)>0,G30-B30,0) -> 0 | L30: =G30/B30 -> 0.66666667 | N30: =G30-S30 -> 4 | P30: =+D30 -> Chorrera | Q30: 0 | R30: 16 | S30: =SUM(Q30:R30) -> 16 | T30: =IFERROR((Q30/S30),0) -> 0 | U30: =IFERROR((R30/S30),0) -> 1 | V30: =IF((S30-B30)>0,S30-B30,0) -> 0 | W30: =V30/B30 -> 0
B31: 18 | D31: Darién | E31: 0 | F31: 0 | G31: =SUM(E31:F31) -> 0 | H31: =IFERROR((E31/G31),0) -> 0 | I31: =IFERROR((F31/G31),0) -> 0 | J31: =B31 -> 18 | K31: =IF((G31-B31)>0,G31-B31,0) -> 0 | L31: =G31/B31 -> 0 | N31: =G31-S31 -> -1 | P31: =+D31 -> Darién | Q31: 0 | R31: 1 | S31: =SUM(Q31:R31) -> 1 | T31: =IFERROR((Q31/S31),0) -> 0 | U31: =IFERROR((R31/S31),0) -> 1 | V31: =IF((S31-B31)>0,S31-B31,0) -> 0 | W31: =V31/B31 -> 0
B32: =SUM(B9:B31) -> 14946 | D32: Total | E32: =SUM(E9:E29)-E18-E19-E28-E29+E30+E31 -> 10617 | F32: =SUM(F9:F29)-F18-F19-F28-F29+F30+F31 -> 7287 | G32: =SUM(E32:F32) -> 17904 | H32: =IFERROR((E32/G32),0) -> 0.59299598 | I32: =IFERROR((F32/G32),0) -> 0.40700402 | J32: =B32 -> 14946 | K32: =IF((G32-B32)>0,G32-B32,0) -> 2958 | L32: =G32/B32 -> 1.1979125 | N32: =G32-S32 -> 116 | P32: =+D32 -> Total | Q32: 10549 | R32: 7239 | S32: =SUM(Q32:R32) -> 17788 | T32: =IFERROR((Q32/S32),0) -> 0.59304025 | U32: =IFERROR((R32/S32),0) -> 0.40695975 | V32: =IF((S32-B32)>0,S32-B32,0) -> 2842 | W32: =V32/B32 -> 0.19015121
C34: SEXO | D34: Hombres | E34: =E10+E11+E12+E13+E14+E15+E16+E20+E21+E22+E24+E25+E26+E18+E28+E30+E31 -> 9978 | F34: =F10+F11+F12+F13+F14+F15+F16+F20+F21+F22+F24+F25+F26+F18+F28+F30+F31 -> 6937 | G34: =SUM(E34:F34) -> 16915 | H34: =IFERROR((E34/G34),0) -> 0.58989063 | I34: =IFERROR((F34/G34),0) -> 0.41010937 | K34: Población Penal (17,904)/Población Nacional Estimada (4,218,808)*x 100 mil habitantes = 424 PPL | P34: =+D34 -> Hombres | Q34: 9916 | R34: 6880 | S34: =SUM(Q34:R34) -> 16796 | T34: =IFERROR((Q34/S34),0) -> 0.59037866 | U34: =IFERROR((R34/S34),0) -> 0.40962134
D35: Mujeres | E35: =E9+E23+E19+E29 -> 639 | F35: =F9+F23+F19+F29 -> 350 | G35: =SUM(E35:F35) -> 989 | H35: =IFERROR((E35/G35),0) -> 0.64610718 | I35: =IFERROR((F35/G35),0) -> 0.35389282 | P35: =+D35 -> Mujeres | Q35: 633 | R35: 359 | S35: =SUM(Q35:R35) -> 992 | T35: =IFERROR((Q35/S35),0) -> 0.63810484 | U35: =IFERROR((R35/S35),0) -> 0.36189516
D36: Total | E36: =SUM(E34:E35) -> 10617 | F36: =SUM(F34:F35) -> 7287 | G36: =SUM(G34:G35) -> 17904 | H36: =IFERROR((E36/G36),0) -> 0.59299598 | I36: =IFERROR((F36/G36),0) -> 0.40700402 | P36: =+D36 -> Total | Q36: 10549 | R36: 7239 | S36: =SUM(S34:S35) -> 17788 | T36: =IFERROR((Q36/S36),0) -> 0.59304025 | U36: =IFERROR((R36/S36),0) -> 0.40695975
D37: *Fuente: Instituto Nacional de Estadística y Censo (www.contraloria.gob.pa/inec). Situación Demográfica, Proyecciones de la Población del País, Boletín 14. Estimaciones y Proyecciones de la Población de la República, por Provincia y Comarca Indígena, según sexo y edad: AÑOS 2000-30
P40: Semana | Q40: Total | R40: Densidad | S40: Balance | U40: Porcentaje por Sexo
E41: Dirección General del Sistema Penitenciario | P41: S31 | Q41: 16071 | R41: 386 | U41: Sexo | V41: Porcentaje
E42: Estadística Diaria | P42: S32 | Q42: 16102 | R42: 387 | S42: =Q42-Q41 -> 31 | U42: Hombres | V42: =IFERROR(G34/G36,0) -> 0.94476095
P43: S33 | Q43: 16063 | R43: 386 | S43: =Q43-Q42 -> -39 | U43: Mujeres | V43: =IFERROR(G35/G36,0) -> 0.055239053
P44: S34 | Q44: 16133 | R44: 388 | S44: =Q44-Q43 -> 70
P45: S35 | Q45: 16195 | R45: 389 | S45: =Q45-Q44 -> 62 | U45: Porcentaje por Estatus Jurídico
P46: S36 | Q46: 16225 | R46: 390 | S46: =Q46-Q45 -> 30 | U46: Estatus | V46: Porcentaje
...

Sheet Hoy
B2: Dirección General del Sistema Penitenciario
B3: Estadística Diaria
C5: Noviembre de 20221
C7: Conteo | F7: Porcentaje | H7: Capacidad | I7: Sobrepoblación | J7: Densidad
A8: Provincia | B8: Centro/Cárcel | C8: Condenados | D8: Procesados | E8: Total | F8: Condenados | G8: Procesados
A9: Chiriquí | B9: Los Algarrobos | C9: 134 | D9: 45 | E9: =SUM(C9:D9) -> 179 | F9: =IFERROR((C9/E9),0) -> 0.74860335 | G9: =IFERROR((D9/E9),0) -> 0.25139665 | H9: 80 | I9: =IFERROR(E9-H9,"") -> 99 | J9: =IFERROR(E9/H9,"") -> 2.2375
B10: Chiriquí | C10: 1434 | D10: 547 | E10: =SUM(C10:D10) -> 1981 | F10: =IFERROR((C10/E10),0) -> 0.72387683 | G10: =IFERROR((D10/E10),0) -> 0.27612317 | H10: 950 | I10: =IFERROR(E10-H10,"") -> 1031 | J10: =IFERROR(E10/H10,"") -> 2.0852632
B11: Total Chiriquí | C11: =SUM(C9:C10) -> 1568 | D11: =SUM(D9:D10) -> 592 | E11: =SUM(C11:D11) -> 2160 | F11: =IFERROR((C11/E11),0) -> 0.72592593 | G11: =IFERROR((D11/E11),0) -> 0.27407407 | H11: =SUM(H9:H10) -> 1030 | I11: =IFERROR(E11-H11,"") -> 1130 | J11: =IFERROR(E11/H11,"") -> 2.0970874
A12: Bocas del Toro | B12: Deborah | C12: 463 | D12: 196 | E12: =SUM(C12:D12) -> 659 | F12: =IFERROR((C12/E12),0) -> 0.70257967 | G12: =IFERROR((D12/E12),0) -> 0.29742033 | H12: 292 | I12: =IFERROR(E12-H12,"") -> 367 | J12: =IFERROR(E12/H12,"") -> 2.2568493
A13: Veraguas | B13: Santiago | C13: 533 | D13: 151 | E13: =SUM(C13:D13) -> 684 | F13: =IFERROR((C13/E13),0) -> 0.77923977 | G13: =IFERROR((D13/E13),0) -> 0.22076023 | H13: 150 | I13: =IFERROR(E13-H13,"") -> 534 | J13: =IFERROR(E13/H13,"") -> 4.56
A14: Los Santos | B14: Las Tablas | C14: 236 | D14: 73 | E14: =SUM(C14:D14) -> 309 | F14: =IFERROR((C14/E14),0) -> 0.76375405 | G14: =IFERROR((D14/E14),0) -> 0.23624595 | H14: 75 | I14: =IFERROR(E14-H14,"") -> 234 | J14: =IFERROR(E14/H14,"") -> 4.12
A15: Herrera | B15: Chitré | C15: 0 | D15: 0 | E15: =SUM(C15:D15) -> 0 | F15: =IFERROR((C15/E15),0) -> 0 | G15: =IFERROR((D15/E15),0) -> 0 | H15: 80 | I15: =IFERROR(E15-H15,"") -> -80 | J15: =IFERROR(E15/H15,"") -> 0
A16: Coclé | B16: Aguadulce | C16: 148 | D16: 36 | E16: =SUM(C16:D16) -> 184 | F16: =IFERROR((C16/E16),0) -> 0.80434783 | G16: =IFERROR((D16/E16),0) -> 0.19565217 | H16: 40 | I16: =IFERROR(E16-H16,"") -> 144 | J16: =IFERROR(E16/H16,"") -> 4.6
B17: Llano Marín | C17: =SUM(C18:C19) -> 107 | D17: =SUM(D18:D19) -> 40 | E17: =SUM(C17:D17) -> 147 | F17: =IFERROR((C17/E17),0) -> 0.72789116 | G17: =IFERROR((D17/E17),0) -> 0.27210884 | H17: =SUM(H18:H19) -> 70 | I17: =IFERROR(E17-H17,"") -> 77 | J17: =IFERROR(E17/H17,"") -> 2.1
B18: Ll. Marín H | C18: 17 | D18: 0 | E18: =SUM(C18:D18) -> 17 | F18: =IFERROR((C18/E18),0) -> 1 | G18: =IFERROR((D18/E18),0) -> 0 | H18: 30 | I18: =IFERROR(E18-H18,"") -> -13 | J18: =IFERROR(E18/H18,"") -> 0.56666667
B19: Ll. Marín M | C19: 90 | D19: 40 | E19: =SUM(C19:D19) -> 130 | F19: =IFERROR((C19/E19),0) -> 0.69230769 | G19: =IFERROR((D19/E19),0) -> 0.30769231 | H19: 40 | I19: =IFERROR(E19-H19,"") -> 90 | J19: =IFERROR(E19/H19,"") -> 3.25
B20: Penonomé | C20: 482 | D20: 153 | E20: =SUM(C20:D20) -> 635 | F20: =IFERROR((C20/E20),0) -> 0.75905512 | G20: =IFERROR((D20/E20),0) -> 0.24094488 | H20: 200 | I20: =IFERROR(E20-H20,"") -> 435 | J20: =IFERROR(E20/H20,"") -> 3.175
B21: Total Coclé | C21: =+C16+C17+C20 -> 737 | D21: =+D16+D17+D20 -> 229 | E21: =SUM(C21:D21) -> 966 | F21: =IFERROR((C21/E21),0) -> 0.76293996 | G21: =IFERROR((D21/E21),0) -> 0.23706004 | H21: =+H16+H17+H20 -> 310 | I21: =IFERROR(E21-H21,"") -> 656 | J21: =IFERROR(E21/H21,"") -> 3.116129
A22: Panamá | B22: Punta Coco | C22: 0 | D22: 9 | E22: =SUM(C22:D22) -> 9 | F22: =IFERROR((C22/E22),0) -> 0 | G22: =IFERROR((D22/E22),0) -> 1 | H22: 12 | I22: =IFERROR(E22-H22,"") -> -3 | J22: =IFERROR(E22/H22,"") -> 0.75
B23: El Renacer | C23: 151 | D23: 37 | E23: =SUM(C23:D23) -> 188 | F23: =IFERROR((C23/E23),0) -> 0.80319149 | G23: =IFERROR((D23/E23),0) -> 0.19680851 | H23: 436 | I23: =IFERROR(E23-H23,"") -> -248 | J23: =IFERROR(E23/H23,"") -> 0.43119266
B24: Tinajita | C24: 290 | D24: 116 | E24: =SUM(C24:D24) -> 406 | F24: =IFERROR((C24/E24),0) -> 0.71428571 | G24: =IFERROR((D24/E24),0) -> 0.28571429 | H24: 280 | I24: =IFERROR(E24-H24,"") -> 126 | J24: =IFERROR(E24/H24,"") -> 1.45
B25: Cefere | C25: 557 | D25: 162 | E25: =SUM(C25:D25) -> 719 | F25: =IFERROR((C25/E25),0) -> 0.77468707 | G25: =IFERROR((D25/E25),0) -> 0.22531293 | H25: 433 | I25: =IFERROR(E25-H25,"") -> 286 | J25: =IFERROR(E25/H25,"") -> 1.6605081
B26: La Nueva Joya | C26: 3177 | D26: 2117 | E26: =SUM(C26:D26) -> 5294 | F26: =IFERROR((C26/E26),0) -> 0.60011334 | G26: =IFERROR((D26/E26),0) -> 0.39988666 | H26: 5504 | I26: =IFERROR(E26-H26,"") -> -210 | J26: =IFERROR(E26/H26,"") -> 0.96184593
B27: La Joya | C27: 2580 | D27: 1164 | E27: =SUM(C27:D27) -> 3744 | F27: =IFERROR((C27/E27),0) -> 0.68910256 | G27: =IFERROR((D27/E27),0) -> 0.31089744 | H27: 1568 | I27: =IFERROR(E27-H27,"") -> 2176 | J27: =IFERROR(E27/H27,"") -> 2.3877551
B28: La Joyita | C28: 2299 | D28: 1888 | E28: =SUM(C28:D28) -> 4187 | F28: =IFERROR((C28/E28),0) -> 0.54908049 | G28: =IFERROR((D28/E28),0) -> 0.45091951 | H28: 2837 | I28: =IFERROR(E28-H28,"") -> 1350 | J28: =IFERROR(E28/H28,"") -> 1.4758548
B29: Total Panamá | C29: =SUM(C22:C28) -> 9054 | D29: =SUM(D22:D28) -> 5493 | E29: =SUM(C29:D29) -> 14547 | F29: =IFERROR((C29/E29),0) -> 0.62239637 | G29: =IFERROR((D29/E29),0) -> 0.37760363 | H29: =SUM(H22:H28) -> 11070 | I29: =IFERROR(E29-H29,"") -> 3477 | J29: =IFERROR(E29/H29,"") -> 1.3140921
A30: Colón | B30: Colón | C30: =SUM(C31:C32) -> 1445 | D30: =SUM(D31:D32) -> 903 | E30: =SUM(C30:D30) -> 2348 | F30: =IFERROR((C30/E30),0) -> 0.61541738 | G30: =IFERROR((D30/E30),0) -> 0.38458262 | H30: =SUM(H31:H32) -> 1546 | I30: =IFERROR(E30-H30,"") -> 802 | J30: =IFERROR(E30/H30,"") -> 1.5187581
B31: Colón H | C31: 1374 | D31: 872 | E31: =SUM(C31:D31) -> 2246 | F31: =IFERROR((C31/E31),0) -> 0.61175423 | G31: =IFERROR((D31/E31),0) -> 0.38824577 | H31: 1322 | I31: =IFERROR(E31-H31,"") -> 924 | J31: =IFERROR(E31/H31,"") -> 1.698941
B32: Colón M | C32: 71 | D32: 31 | E32: =SUM(C32:D32) -> 102 | F32: =IFERROR((C32/E32),0) -> 0.69607843 | G32: =IFERROR((D32/E32),0) -> 0.30392157 | H32: 224 | I32: =IFERROR(E32-H32,"") -> -122 | J32: =IFERROR(E32/H32,"") -> 0.45535714
A33: Panamá Oeste | B33: La Chorrera | C33: 0 | D33: 0 | E33: =SUM(C33:D33) -> 0 | F33: =IFERROR((C33/E33),0) -> 0 | G33: =IFERROR((D33/E33),0) -> 0 | H33: 20 | I33: =IFERROR(E33-H33,"") -> -20 | J33: =IFERROR(E33/H33,"") -> 0
A34: Darién | B34: La Palma | C34: 0 | D34: 17 | E34: =SUM(C34:D34) -> 17 | F34: =IFERROR((C34/E34),0) -> 0 | G34: =IFERROR((D34/E34),0) -> 1 | H34: 18 | I34: =IFERROR(E34-H34,"") -> -1 | J34: =IFERROR(E34/H34,"") -> 0.94444444
A35: Totales | C35: =+C11+C12+C13+C14+C15+C21+C29+C30+C33+C34 -> 14036 | D35: =+D11+D12+D13+D14+D15+D21+D29+D30+D33+D34 -> 7654 | E35: =SUM(C35:D35) -> 21690 | F35: =IFERROR((C35/E35),0) -> 0.64711849 | G35: =IFERROR((D35/E35),0) -> 0.35288151 | H35: =+H11+H12+H13+H14+H15+H21+H29+H30+H33+H34 -> 14591 | I35: =IFERROR(E35-H35,"") -> 7099 | J35: =IFERROR(E35/H35,"") -> 1.4865328
A37: Sexo | B37: Hombres | C37: =+C10+C12+C13+C14+C15+C16+C18+C20+C22+C23+C24+C26+C27+C28+C31+C33+C34 -> 13184 | D37: =+D10+D12+D13+D14+D15+D16+D18+D20+D22+D23+D24+D26+D27+D28+D31+D33+D34 -> 7376 | E37: =SUM(C37:D37) -> 20560 | F37: =IFERROR((C37/E37),0) -> 0.64124514 | G37: =IFERROR((D37/E37),0) -> 0.35875486 | I37: Pob. Penal (21,113) / Pob. Nacional Estimada (4,395,414)2 x 100mil Habitantes = 480 PPL
B38: Mujeres | C38: =+C9+C19+C25+C32 -> 852 | D38: =+D9+D19+D25+D32 -> 278 | E38: =SUM(C38:D38) -> 1130 | F38: =IFERROR((C38/E38),0) -> 0.7539823 | G38: =IFERROR((D38/E38),0) -> 0.2460177
A39: Totales | C39: =SUM(C37:C38) -> 14036 | D39: =SUM(D37:D38) -> 7654 | E39: =SUM(C39:D39) -> 21690 | F39: =IFERROR((C39/E39),0) -> 0.64711849 | G39: =IFERROR((D39/E39),0) -> 0.35288151
A40: 1Datos recabados por el equipo del Sistema de Información Penitenciaria (SIP).
A41: 2Fuente: Instituto Nacional de Estadística y Censo (www.contraloria.gob.pa/inec). Sección Demográfica, Proyecciones de la Población del País, Boletín 14. Estimaciones y Proyecciones de la Población de la República, por Provincia y Comarca Indígena, según sexo y edad: AÑOS 2000-30.

Sheet Mes
B2: Dirección General del Sistema Penitenciario
B3: Estadística Mensual
C5: FEBRERO 20251
C7: Conteo | F7: Porcentaje | H7: Capacidad | I7: Sobrepoblación | J7: Densidad
A8: Provincia | B8: Centro/Cárcel | C8: Condenados | D8: Procesados | E8: Total | F8: Condenados | G8: Procesados
A9: Chiriquí | B9: Los Algarrobos | C9: 133 | D9: 39 | E9: 172 | F9: 0.77325581 | G9: 0.22674419 | H9: 80 | I9: 92 | J9: 2.15
B10: Chiriquí | C10: 1681 | D10: 641 | E10: 2322 | F10: 0.72394488 | G10: 0.27605512 | H10: 950 | I10: 1372 | J10: 2.4442105
B11: Total Chiriquí | C11: 1814 | D11: 680 | E11: 2494 | F11: 0.72734563 | G11: 0.27265437 | H11: 1030 | I11: 1464 | J11: 2.4213592
A12: Bocas del Toro | B12: Deborah | C12: 647 | D12: 275 | E12: 922 | F12: 0.70173536 | G12: 0.29826464 | H12: 292 | I12: 630 | J12: 3.1575342
A13: Veraguas | B13: Santiago | C13: 449 | D13: 127 | E13: 576 | F13: 0.77951389 | G13: 0.22048611 | H13: 150 | I13: 426 | J13: 3.84
A14: Los Santos | B14: Las Tablas | C14: 317 | D14: 97 | E14: 414 | F14: 0.76570048 | G14: 0.23429952 | H14: 75 | I14: 339 | J14: 5.52
A15: Herrera | B15: Chitré | C15: 0 | D15: 0 | E15: 0 | F15: 0 | G15: 0 | H15: 80 | I15: -80 | J15: 0
A16: Coclé | B16: Aguadulce | C16: 82 | D16: 20 | E16: 102 | F16: 0.80392157 | G16: 0.19607843 | H16: 40 | I16: 62 | J16: 2.55
B17: Llano Marín | C17: 97 | D17: 37 | E17: 134 | F17: 0.7238806 | G17: 0.2761194 | H17: 70 | I17: 64 | J17: 1.9142857
B18: Ll. Marín H | C18: 14 | D18: 0 | E18: 14 | F18: 1 | G18: 0 | H18: 30 | I18: -16 | J18: 0.46666667
B19: Ll. Marín M | C19: 83 | D19: 37 | E19: 120 | F19: 0.69166667 | G19: 0.30833333 | H19: 40 | I19: 80 | J19: 3
B20: Penonomé | C20: 493 | D20: 156 | E20: 649 | F20: 0.7596302 | G20: 0.2403698 | H20: 200 | I20: 449 | J20: 3.245
B21: Total Coclé | C21: 672 | D21: 213 | E21: 885 | F21: 0.75932203 | G21: 0.24067797 | H21: 310 | I21: 575 | J21: 2.8548387
A22: Panamá | B22: Punta Coco | C22: 0 | D22: 7 | E22: 7 | F22: 0 | G22: 1 | H22: 12 | I22: -5 | J22: 0.58333333
B23: El Renacer | C23: 340 | D23: 83 | E23: 423 | F23: 0.80378251 | G23: 0.19621749 | H23: 436 | I23: -13 | J23: 0.97018349
B24: Tinajita | C24: 302 | D24: 120 | E24: 422 | F24: 0.71563981 | G24: 0.28436019 | H24: 280 | I24: 142 | J24: 1.5071429
B25: Cefere | C25: 565 | D25: 165 | E25: 730 | F25: 0.7739726 | G25: 0.2260274 | H25: 433 | I25: 297 | J25: 1.6859122
B26: La Nueva Joya | C26: 3335 | D26: 2222 | E26: 5557 | F26: 0.60014396 | G26: 0.39985604 | H26: 5504 | I26: 53 | J26: 1.0096294
B27: La Joya | C27: 3228 | D27: 1457 | E27: 4685 | F27: 0.68900747 | G27: 0.31099253 | H27: 1568 | I27: 3117 | J27: 2.9878827
B28: La Joyita | C28: 2507 | D28: 2060 | E28: 4567 | F28: 0.54893803 | G28: 0.45106197 | H28: 2837 | I28: 1730 | J28: 1.6097991
B29: Total Panamá | C29: 10277 | D29: 6114 | E29: 16391 | F29: 0.62699042 | G29: 0.37300958 | H29: 11070 | I29: 5321 | J29: 1.4806685
A30: Colón | B30: Colón | C30: 1622 | D30: 1015 | E30: 2637 | F30: 0.61509291 | G30: 0.38490709 | H30: 1546 | I30: 1091 | J30: 1.7056921
B31: Colón H | C31: 1550 | D31: 983 | E31: 2533 | F31: 0.61192262 | G31: 0.38807738 | H31: 1322 | I31: 1211 | J31: 1.9160363
B32: Colón M | C32: 72 | D32: 32 | E32: 104 | F32: 0.69230769 | G32: 0.30769231 | H32: 224 | I32: -120 | J32: 0.46428571
A33: Panamá Oeste | B33: La Chorrera | C33: 0 | D33: 0 | E33: 0 | F33: 0 | G33: 0 | H33: 20 | I33: -20 | J33: 0
A34: Darién | B34: La Palma | C34: 0 | D34: 8 | E34: 8 | F34: 0 | G34: 1 | H34: 18 | I34: -10 | J34: 0.44444444
A35: Totales | C35: 15798 | D35: 8529 | E35: 24327 | F35: 0.6494019 | G35: 0.3505981 | H35: 14591 | I35: 9736 | J35: 1.6672606
A37: Sexo | B37: Hombres | C37: =+C10+C12+C13+C14+C15+C16+C18+C20+C22+C23+C24+C26+C27+C28+C31+C33+C34 -> 14945 | D37: =+D10+D12+D13+D14+D15+D16+D18+D20+D22+D23+D24+D26+D27+D28+D31+D33+D34 -> 8256 | E37: =SUM(C37:D37) -> 23201 | F37: =IFERROR((C37/E37),0) -> 0.64415327 | G37: =IFERROR((D37/E37),0) -> 0.35584673 | I37: Pob. Penal (24,348) / Pob. Nacional Estimada (4,395,414)2 x 100mil Habitantes = 554 PPL
B38: Mujeres | C38: =+C9+C19+C25+C32 -> 853 | D38: =+D9+D19+D25+D32 -> 273 | E38: =SUM(C38:D38) -> 1126 | F38: =IFERROR((C38/E38),0) -> 0.75754885 | G38: =IFERROR((D38/E38),0) -> 0.24245115
A39: Totales | C39: =SUM(C37:C38) -> 15798 | D39: =SUM(D37:D38) -> 8529 | E39: =SUM(C39:D39) -> 24327 | F39: =IFERROR((C39/E39),0) -> 0.6494019 | G39: =IFERROR((D39/E39),0) -> 0.3505981
A40: 1Datos recabados al 28 de febrero de 2025. Fuente: Sistema de Información Penitenciaria y Departamento de Seguridad Penitenciaria.
A41: 2Fuente: Instituto Nacional de Estadística y Censo (www.contraloria.gob.pa/inec). Sección Demográfica, Proyecciones de la Población del País, Boletín 14. Estimaciones y Proyecciones de la Población de la República, por Provincia y Comarca Indígena, según sexo y edad: AÑOS 2000-30.

Sheet Cuadro Mensual
E2: Dirección General del Sistema Penitenciario
E3: Estadística Mensual
E5: DICIEMBRE 20191
E7: Conteo | H7: Porcentaje | J7: Capacidad | K7: Sobrepoblación | L7: Índice de Hacinamiento
B8: cap. | D8: Detalle | E8: Condenados | F8: Procesados | G8: Total | H8: Condenados | I8: Procesados
B9: ='Cuadro Diario'!B9 -> 100 | C9: CENTRO PENAL | D9: ='Cuadro Diario'!D9 -> Algarrobos | E9: 127 | F9: 72 | G9: 199 | H9: 0.63819095 | I9: 0.36180905 | J9: 100 | K9: 99 | L9: 1.99
B10: ='Cuadro Diario'!B10 -> 950 | D10: ='Cuadro Diario'!D10 -> Chiriquí | E10: 1247 | F10: 336 | G10: 1583 | H10: 0.78774479 | I10: 0.21225521 | J10: 950 | K10: 633 | L10: 1.6663158
B11: ='Cuadro Diario'!B11 -> 304 | D11: ='Cuadro Diario'!D11 -> Bocas | E11: 372 | F11: 95 | G11: 467 | H11: 0.79657388 | I11: 0.20342612 | J11: 304 | K11: 163 | L11: 1.5361842
B12: ='Cuadro Diario'!B12 -> 472 | D12: ='Cuadro Diario'!D12 -> Santiago | E12: 406 | F12: 95 | G12: 501 | H12: 0.81037924 | I12: 0.18962076 | J12: 472 | K12: 29 | L12: 1.0614407
B13: ='Cuadro Diario'!B13 -> 75 | D13: ='Cuadro Diario'!D13 -> Las Tablas | E13: 207 | F13: 43 | G13: 250 | H13: 0.828 | I13: 0.172 | J13: 75 | K13: 175 | L13: 3.3333333
B14: ='Cuadro Diario'!B14 -> 12 | D14: ='Cuadro Diario'!D14 -> Punta Coco | E14: 0 | F14: 9 | G14: 9 | H14: 0 | I14: 1 | J14: 12 | K14: 0 | L14: 0.75
B15: ='Cuadro Diario'!B15 -> 80 | D15: ='Cuadro Diario'!D15 -> Chitré | E15: 227 | F15: 43 | G15: 270 | H15: 0.84074074 | I15: 0.15925926 | J15: 80 | K15: 190 | L15: 3.375
B16: ='Cuadro Diario'!B16 -> 40 | D16: ='Cuadro Diario'!D16 -> Aguadulce | E16: 113 | F16: 36 | G16: 149 | H16: 0.75838926 | I16: 0.24161074 | J16: 40 | K16: 109 | L16: 3.725
B17: ='Cuadro Diario'!B17 -> 70 | D17: ='Cuadro Diario'!D17 -> Llano Marín | E17: 64 | F17: 15 | G17: 79 | H17: 0.81012658 | I17: 0.18987342 | J17: 70 | K17: 9 | L17: 1.1285714
D18: ='Cuadro Diario'!D18 -> Ll. Marín H | E18: 14 | F18: 0
D19: ='Cuadro Diario'!D19 -> Ll. Marín M | E19: 50 | F19: 15
B20: ='Cuadro Diario'!B20 -> 100 | D20: ='Cuadro Diario'!D20 -> Penonomé | E20: 399 | F20: 129 | G20: 528 | H20: 0.75568182 | I20: 0.24431818 | J20: 100 | K20: 428 | L20: 5.28
B21: ='Cuadro Diario'!B21 -> 309 | D21: ='Cuadro Diario'!D21 -> El Renacer | E21: 281 | F21: 20 | G21: 301 | H21: 0.93355482 | I21: 0.066445183 | J21: 309 | K21: 0 | L21: 0.97411003
B22: ='Cuadro Diario'!B22 -> 498 | D22: ='Cuadro Diario'!D22 -> Tinajita | E22: 331 | F22: 170 | G22: 501 | H22: 0.66067864 | I22: 0.33932136 | J22: 498 | K22: 3 | L22: 1.0060241
B23: ='Cuadro Diario'!B23 -> 433 | D23: ='Cuadro Diario'!D23 -> Cefere | E23: 430 | F23: 224 | G23: 654 | H23: 0.65749235 | I23: 0.34250765 | J23: 433 | K23: 221 | L23: 1.5103926
B24: ='Cuadro Diario'!B24 -> 5504 | D24: ='Cuadro Diario'!D24 -> Nueva Joya | E24: 2280 | F24: 1942 | G24: 4222 | H24: 0.54002842 | I24: 0.45997158 | J24: 5504 | K24: 0 | L24: 0.76707849
B25: ='Cuadro Diario'!B25 -> 1568 | D25: ='Cuadro Diario'!D25 -> Joya | E25: 1673 | F25: 1211 | G25: 2884 | H25: 0.58009709 | I25: 0.41990291 | J25: 1568 | K25: 1316 | L25: 1.8392857
B26: ='Cuadro Diario'!B26 -> 2837 | D26: ='Cuadro Diario'!D26 -> Joyita | E26: 1551 | F26: 2057 | G26: 3608 | H26: 0.42987805 | I26: 0.57012195 | J26: 2837 | K26: 771 | L26: 1.2717659
B27: ='Cuadro Diario'!B27 -> 1546 | D27: ='Cuadro Diario'!D27 -> Colón | E27: 503 | F27: 1022 | G27: 1525 | H27: 0.32983607 | I27: 0.67016393 | J27: 1546 | K27: 0 | L27: 0.98641656
D28: ='Cuadro Diario'!D28 -> Colón H | E28: 478 | F28: 971
D29: ='Cuadro Diario'!D29 -> Colón M | E29: 25 | F29: 51
D30: Chorrera | E30: 0 | F30: 0 | G30: 0 | H30: 0 | I30: 0 | J30: 30 | K30: 0 | L30: 0
D31: Darién | E31: 0 | F31: 3 | G31: 3 | H31: 0 | I31: 1 | J31: 18 | K31: 0 | L31: 0.16666667
B32: ='Cuadro Diario'!B32 -> 14946 | D32: Total | E32: 10211 | F32: 7522 | G32: 17733 | H32: 0.57581909 | I32: 0.42418091 | J32: 14946 | K32: 2787 | L32: 1.1864713
C34: SEXO | D34: ='Cuadro Diario'!D34 -> Hombres | E34: 9579 | F34: 7160 | G34: 16739 | H34: 0.57225641 | I34: 0.42774359 | K34: Población Penal (17,733)/Población Nacional Estimada (4,218,808)2 x 100mil Habitantes = 420 PPL
D35: ='Cuadro Diario'!D35 -> Mujeres | E35: 632 | F35: 362 | G35: 994 | H35: 0.63581489 | I35: 0.36418511
D36: Total | E36: 10211 | F36: 7522 | G36: 17733 | H36: 0.57581909 | I36: 0.42418091
D37: 1Datos recabados al 31 de diciembre de 2019.
D38: 2Fuente: Instituto Nacional de Estadística y Censo (www.contraloria.gob.pa/inec). Sección Demográfica, Proyecciones de la Población del País, Boletín 14. Estimaciones y Proyecciones de la Población de la República, por Provincia y Comarca Indígena, según sexo y edad: AÑOS 2000-30.
E41: Dirección General del Sistema Penitenciario
E42: Estadística Mensual
O45: MES | P45: TOTAL
N46: 2018 | O46: Enero | P46: 16080
O47: Febrero | P47: 16132
O48: Marzo | P48: 16183
...

Sheet Gráficos

Sheet %s
C2: 45535 | G2: Porcentaje
F3: TOTAL | G3: Condenados | H3: Procesados | I3: Condenados | J3: Procesados
A4: 868 | E4: Los Algarrobos | F4: =A8 -> 194 | G4: 0.75 | H4: 0.25 | I4: =ROUND($F4*$G4,0) -> 146 | J4: =ROUND($F4*$H4,0) -> 49
E5: Chiriquí | F5: =A7 -> 2290 | G5: 0.72404799 | H5: 0.27595201 | I5: =ROUND($F5*$G5,0) -> 1658 | J5: =ROUND($F5*$H5,0) -> 632
E6: Total Chiriquí | G6: 0.7263658 | H6: 0.2736342 | I6: =ROUND($F6*$G6,0) -> 0 | J6: =ROUND($F6*$H6,0) -> 0
A7: 2290 | E7: Deborah | F7: =A4 -> 868 | G7: 0.7022293 | H7: 0.2977707 | I7: =ROUND($F7*$G7,0) -> 610 | J7: =ROUND($F7*$H7,0) -> 258
A8: 194 | E8: Santiago | F8: =A12 -> 753 | G8: 0.7795858 | H8: 0.2204142 | I8: =ROUND($F8*$G8,0) -> 587 | J8: =ROUND($F8*$H8,0) -> 166
A9: 2484 | E9: Las Tablas | F9: =A15 -> 414 | G9: 0.76491228 | H9: 0.23508772 | I9: =ROUND($F9*$G9,0) -> 317 | J9: =ROUND($F9*$H9,0) -> 97
E10: Chitré | F10: 0 | G10: 0.68811881 | H10: 0.31188119 | I10: =ROUND($F10*$G10,0) -> 0 | J10: =ROUND($F10*$H10,0) -> 0
E11: Aguadulce | F11: =A22 -> 124 | G11: 0.80487805 | H11: 0.19512195 | I11: =ROUND($F11*$G11,0) -> 100 | J11: =ROUND($F11*$H11,0) -> 24
A12: 753 | E12: Llano Marín | G12: 0.72794118 | H12: 0.27205882 | I12: =ROUND($F12*$G12,0) -> 0 | J12: =ROUND($F12*$H12,0) -> 0
E13: Ll. Marín H | F13: =A24 -> 12 | G13: 1 | H13: 0 | I13: =ROUND($F13*$G13,0) -> 12 | J13: =ROUND($F13*$H13,0) -> 0
E14: Ll. Marín M | F14: =A23 -> 119 | G14: 0.69166667 | H14: 0.30833333 | I14: =ROUND($F14*$G14,0) -> 82 | J14: =ROUND($F14*$H14,0) -> 37
A15: 414 | E15: Penonomé | F15: =A21 -> 645 | G15: 0.75968992 | H15: 0.24031008 | I15: =ROUND($F15*$G15,0) -> 490 | J15: =ROUND($F15*$H15,0) -> 155
E16: Total Coclé | G16: 0.76470588 | H16: 0.23529412 | I16: =ROUND($F16*$G16,0) -> 0 | J16: =ROUND($F16*$H16,0) -> 0
E17: Punta Coco | F17: =A39 -> 8 | G17: 0 | H17: 1 | I17: =ROUND($F17*$G17,0) -> 0 | J17: =ROUND($F17*$H17,0) -> 8
A18: 0 | E18: El Renacer | F18: =A37 -> 282 | G18: 0.80382775 | H18: 0.19617225 | I18: =ROUND($F18*$G18,0) -> 227 | J18: =ROUND($F18*$H18,0) -> 55
E19: Tinajita | F19: =A35 -> 446 | G19: 0.71509972 | H19: 0.28490028 | I19: =ROUND($F19*$G19,0) -> 319 | J19: =ROUND($F19*$H19,0) -> 127
E20: Cefere | F20: =A36 -> 747 | G20: 0.77419355 | H20: 0.22580645 | I20: =ROUND($F20*$G20,0) -> 578 | J20: =ROUND($F20*$H20,0) -> 169
A21: 645 | E21: La Nueva Joya | F21: =A38 -> 5711 | G21: 0.60015711 | H21: 0.39984289 | I21: =ROUND($F21*$G21,0) -> 3427 | J21: =ROUND($F21*$H21,0) -> 2284
A22: 124 | E22: La Joya | F22: =A33 -> 4517 | G22: 0.68899969 | H22: 0.31100031 | I22: =ROUND($F22*$G22,0) -> 3112 | J22: =ROUND($F22*$H22,0) -> 1405
A23: 119 | E23: La Joyita | F23: =A34 -> 4480 | G23: 0.54900498 | H23: 0.45099502 | I23: =ROUND($F23*$G23,0) -> 2460 | J23: =ROUND($F23*$H23,0) -> 2020
A24: 12 | E24: Total Panamá | G24: 0.62046861 | H24: 0.37953139 | I24: =ROUND($F24*$G24,0) -> 0 | J24: =ROUND($F24*$H24,0) -> 0
A25: 900 | E25: Colón | G25: 0.61531532 | H25: 0.38468468 | I25: =ROUND($F25*$G25,0) -> 0 | J25: =ROUND($F25*$H25,0) -> 0
E26: Colón H | F26: =A28 -> 2488 | G26: 0.61191929 | H26: 0.38808071 | I26: =ROUND($F26*$G26,0) -> 1522 | J26: =ROUND($F26*$H26,0) -> 966
E27: Colón M | F27: =A29 -> 105 | G27: 0.69662921 | H27: 0.30337079 | I27: =ROUND($F27*$G27,0) -> 73 | J27: =ROUND($F27*$H27,0) -> 32
A28: 2488 | E28: La Chorrera | G28: 0 | H28: 0 | I28: =ROUND($F28*$G28,0) -> 0 | J28: =ROUND($F28*$H28,0) -> 0
A29: 105 | E29: La Palma | F29: =A44 -> 13 | G29: 0 | H29: 1 | I29: =ROUND($F29*$G29,0) -> 0 | J29: =ROUND($F29*$H29,0) -> 13
A30: 2593 | G30: 0.64752883 | H30: 0.35247117 | I30: =ROUND($F30*$G30,0) -> 0 | J30: =ROUND($F30*$H30,0) -> 0
A33: 4517
A34: 4480
A35: 446
A36: 747
A37: 282
A38: 5711
A39: 8
A40: 10
A41: 16201
A44: 13

Sheet Cálculos
B2: Tabla para Cálculo de Distribución Porcentual por Condenado / Procesado
B4: Anotar el nombre del Centro Penal e ingresar el total de la población y los porcentajes para estimar en las casillas correspondientes.
E6: Total Conteo | F6: % Estimado | H6: validación
F7: 0.57516738 | G7: 0.42483262 | H7: =SUM(F7:G7) -> 1
B8: Nombre del Centro Penal | F8: Condenado | G8: Procesado
B9: Nueva Joya | D9: Población 1 | F9: =ROUND(E9*$F$7,0) -> 0 | G9: =ROUND(E9*$G$7,0) -> 0
B10: La Joya | D10: Población 2 | F10: =ROUND(E10*$F$7,0) -> 0 | G10: =ROUND(E10*$G$7,0) -> 0
B11: La Joyita | D11: Población 3 | F11: =ROUND(E11*$F$7,0) -> 0 | G11: =ROUND(E11*$G$7,0) -> 0
B12: Colón | D12: Población 4 | E12: 1580 | F12: =ROUND(E12*$F$7,0) -> 909 | G12: =ROUND(E12*$G$7,0) -> 671
D13: Población 5 | F13: =E13*$F$7 -> 0 | G13: =E13*$G$7 -> 0
D14: Población 6 | F14: =E14*$F$7 -> 0 | G14: =E14*$G$7 -> 0
D15: Población 7 | F15: =E15*$F$7 -> 0 | G15: =E15*$G$7 -> 0
E17: Colon H | F17: =F12*0.956 -> 869.004 | G17: =G12*0.956 -> 641.476
E18: Colon M | F18: =F12*0.044 -> 39.996 | G18: =G12*0.044 -> 29.524

Sheet DATA
B1: ENE. | C1: FEB. | D1: MAR. | E1: ABR. | F1: MAY. | G1: JUN. | H1: JUL. | I1: AGO. | J1: SEP. | K1: OCT. | L1: NOV. | M1: DIC.
A2: 2017 | B2: 16490 | C2: 16397 | D2: 16463 | E2: 16287 | F2: 16300 | G2: 16151 | H2: 16099 | I2: 16179 | J2: 16268 | K2: 16369 | L2: 16390 | M2: 16155
A3: 2018 | B3: 16080 | C3: 16132 | D3: 16183 | E3: 15873 | F3: 16035 | G3: 15962 | H3: 16069 | I3: 16206 | J3: 16250 | K3: 16398 | L3: 16509 | M3: 16561
A4: 2019 | B4: 16685 | C4: 16680 | D4: 16705 | E4: 16949 | F4: 16996 | G4: 16953 | H4: 17012 | I4: 17189 | J4: 17360 | K4: 17469 | L4: 17682 | M4: ='Cuadro Diario'!$G$36 -> 17904
A5: MEDIA (2017 + 2018) | B5: =AVERAGE(B2:B3) -> 16285 | C5: =AVERAGE(C2:C3) -> 16264.5 | D5: =AVERAGE(D2:D3) -> 16323 | E5: =AVERAGE(E2:E3) -> 16080 | F5: =AVERAGE(F2:F3) -> 16167.5 | G5: =AVERAGE(G2:G3) -> 16056.5 | H5: =AVERAGE(H2:H3) -> 16084 | I5: =AVERAGE(I2:I3) -> 16192.5 | ... M5: =AVERAGE(M2:M3) -> 16358
A6: VS 2018 | B6: =(B4-B3)/B3 -> 0.037624378 | C6: =(C4-C3)/C3 -> 0.03396975 | D6: =(D4-D3)/D3 -> 0.032256071 | E6: =(E4-E3)/E3 -> 0.067788068 | F6: =(F4-F3)/F3 -> 0.0599314 | G6: =(G4-G3)/G3 -> 0.062084952 | H6: =(H4-H3)/H3 -> 0.058684423 | I6: =(I4-I3)/I3 -> 0.060656547 | ... M6: =(M4-M3)/M3 -> 0.081094137
J8: Capacidad | K8: Población
B9: 2017 | C9: 2018 | D9: 2019 | G9: 2019 | I9: 2017 | J9: 14842 | K9: =M2 -> 16155
A10: Condenados | B10: 7396 | C10: 8733 | D10: ='Cuadro Diario'!E36 -> 10617 | F10: Hombres | G10: ='Cuadro Diario'!G34 -> 16915 | I10: 2018 | J10: 14842 | K10: =M3 -> 16561
A11: Procesados | B11: 8759 | C11: 7828 | D11: ='Cuadro Diario'!F36 -> 7287 | F11: Mujeres | G11: ='Cuadro Diario'!G35 -> 989 | I11: 2019 | J11: ='Cuadro Diario'!J32 -> 14946 | K11: =M4 -> 17904

Sheet DASHBOARD
L26: Sobrepoblación
L27: ='Cuadro Diario'!K32 -> 2958
L29: Índice de Hacinamiento
L30: ='Cuadro Diario'!L32 -> 1.1979125
L32: PPL por cada 100 mil hab.
L33: ='Cuadro Diario'!U51 -> 480.34156
